BEGIN:VCALENDAR
VERSION:2.0
PRODID:-//wp-events-plugin.com//7.2.3.1//EN
BEGIN:VEVENT
UID:1526@lauragais-culture.fr
DTSTART:20260405T100000Z
DTEND:20260405T220000Z
DTSTAMP:20260402T132107Z
URL:https://lauragais-culture.fr/agenda/50eme-edition-de-la-cocagne
SUMMARY:50eme édition de la COCAGNE
DESCRIPTION:Et la Fête de La COCAGNE 2026\, c’est quand ? Le dimanche 5 
 avril entre 10h00 et 22h00.\nEn 2026\, nous célébrerons la 50ème éditi
 on de cette fête unique\, qui met à l'honneur l’histoire\, le patrimoi
 ne et l’esprit festif de ce beau village de caractère.\n\nAu programme 
 :\nActivités pour enfants : mini ferme\, balade à dos d'âne\, rallye de
 s chariotes\, manège d'époque ...\n\nAnimations pour tous :\n- Animation
 s médiévales\n- Ascension du mât de cocagne\n- Funambule - Double recor
 dman mondial\n- Défilé historique en costume d'époque crées par l'asso
 ciation\n- Spectacle "Banquet du Roi Soleil" mis en scène par les bénév
 oles\n- Spectacle de drapeaux italiens\n- Danses et musiques traditionnell
 es\n- Magicien ...\n\nMarché artisanal :\n- Nombreux artisans (teinture t
 raditionnelle au pastel\, soufflage de verre\, vannerie...)\n- Millas\, or
 eillettes\, crêpes...\n\nEn soirée :\n- Feu d'artifice\n- Spectacle de f
 eu\n- animations musicales\n- Funambule\n\nRestauration et buvette sur pla
 ce.\n\nNavettes gratuites\n\nEntrée 9€ et gratuit pour les -12 ans
ATTACH;FMTTYPE=image/jpeg:https://lauragais-culture.fr/wp-content/uploads/
 2026/04/AFFICHE-2026-FINALE.png
LOCATION:Saint-Felix-Lauragais\, Place de la Mairie \, Saint-Felix-Lauragai
 s\, France
X-APPLE-STRUCTURED-LOCATION;VALUE=URI;X-ADDRESS=Place de la Mairie \, Saint
 -Felix-Lauragais\, France;X-APPLE-RADIUS=100;X-TITLE=Saint-Felix-Lauragais
 :geo:0,0
END:VEVENT
END:VCALENDAR