BEGIN:VCALENDAR
VERSION:2.0
PRODID:-//wp-events-plugin.com//7.2.3.1//EN
BEGIN:VEVENT
UID:611@lauragais-culture.fr
DTSTART:20221220T160000Z
DTEND:20221220T180000Z
DTSTAMP:20221201T131718Z
URL:https://lauragais-culture.fr/agenda/atelier-de-noel-2
SUMMARY:Atelier de Noël
DESCRIPTION:Les ateliers lecture et création autour du thème de Noël. Vo
 tre bibliothécaire anime un atelier manuel et une lecture !\n\nRamenez vo
 tre bonne humeur et repartez avec votre création.\n\nMédiathèque interc
 ommunale de Villepinte - mardi 20 décembre - 16h-18h\n\n
LOCATION:Médiathèque de Villepinte\, 12 boulevard Gambetta\, Villepinte\,
  11150\, France
X-APPLE-STRUCTURED-LOCATION;VALUE=URI;X-ADDRESS=12 boulevard Gambetta\, Vil
 lepinte\, 11150\, France;X-APPLE-RADIUS=100;X-TITLE=Médiathèque de Ville
 pinte:geo:0,0
END:VEVENT
END:VCALENDAR