BEGIN:VCALENDAR
VERSION:2.0
PRODID:-//wp-events-plugin.com//7.2.3.1//EN
BEGIN:VEVENT
UID:705@lauragais-culture.fr
DTSTART:20230221T170000Z
DTEND:20230221T190000Z
DTSTAMP:20230206T141527Z
URL:https://lauragais-culture.fr/agenda/atelier-decriture-anime-par-philip
 pe
SUMMARY:Atelier d'écriture animé par Philippe
DESCRIPTION:Vous avez envie de rédiger\, partager\, raconter avec vos mots
 . Cet atelier est ouvert aux débutants et non débutants\, sous forme de 
 séances ludiques\, sans jugement de valeur et dans une ambiance convivial
 e. Petits sablés et boissons chaudes pour faciliter l’inspiration. Ce m
 ois-ci : la poésie.\n\nA partir de 14 ans\, Sur inscription
LOCATION:Médiathèque de Calmont\, 16 Avenue de Mazères\, Calmont\, Franc
 e \, 31560\, France
X-APPLE-STRUCTURED-LOCATION;VALUE=URI;X-ADDRESS=16 Avenue de Mazères\, Cal
 mont\, France \, 31560\, France;X-APPLE-RADIUS=100;X-TITLE=Médiathèque d
 e Calmont:geo:0,0
END:VEVENT
END:VCALENDAR