BEGIN:VCALENDAR
VERSION:2.0
PRODID:-//wp-events-plugin.com//7.2.3.1//EN
BEGIN:VEVENT
UID:638@lauragais-culture.fr
DTSTART:20230105T160000Z
DTEND:20230105T170000Z
DTSTAMP:20230103T074957Z
URL:https://lauragais-culture.fr/agenda/atelier-dessin-manga
SUMMARY:Atelier dessin manga
DESCRIPTION:Pour les deux prochains rendez-vous Goûter Manga\, l'illustrat
 eur Olivier Faure viendra nous apprendre à dessiner à la manière des ma
 ngas.\nInscription obligatoire\n\nMédiathèque intercommunale de Bram\, l
 e 5 janvier 2023\, de 16h à 17h
LOCATION:Médiathèque Bram\, 1\, avenue Clémenceau - 11150 Bram\, BRAM\, 
 11150\, France
X-APPLE-STRUCTURED-LOCATION;VALUE=URI;X-ADDRESS=1\, avenue Clémenceau - 11
 150 Bram\, BRAM\, 11150\, France;X-APPLE-RADIUS=100;X-TITLE=Médiathèque 
 Bram:geo:0,0
END:VEVENT
END:VCALENDAR