BEGIN:VCALENDAR
VERSION:2.0
PRODID:-//wp-events-plugin.com//7.2.3.1//EN
BEGIN:VEVENT
UID:153@lauragais-culture.fr
DTSTART:20200408T150000Z
DTEND:20200408T170000Z
DTSTAMP:20200226T155750Z
URL:https://lauragais-culture.fr/agenda/atelier-manga-5
SUMMARY:Atelier manga
DESCRIPTION:Venez dessiner\, discuter et/ou lire des mangas mais aussi parl
 er de leurs animés avec Aurélie.\n\nPublic ado dès 10 ans - sur inscrip
 tion uniquement\n\nDe 15h à 17h
ATTACH;FMTTYPE=image/jpeg:https://lauragais-culture.fr/wp-content/uploads/
 2020/02/Atelier_Manga_mercredis_01.jpg
LOCATION:Médiathèque de Nailloux\, 2 rue Erik Satie\, Nailloux\, France
X-APPLE-STRUCTURED-LOCATION;VALUE=URI;X-ADDRESS=2 rue Erik Satie\, Nailloux
 \, France;X-APPLE-RADIUS=100;X-TITLE=Médiathèque de Nailloux:geo:0,0
END:VEVENT
END:VCALENDAR