BEGIN:VCALENDAR
VERSION:2.0
PRODID:-//wp-events-plugin.com//7.2.3.1//EN
BEGIN:VEVENT
UID:689@lauragais-culture.fr
DTSTART:20230303T143000Z
DTEND:20230303T163000Z
DTSTAMP:20230130T093155Z
URL:https://lauragais-culture.fr/agenda/atelier-masques-et-gouter-2
SUMMARY:Atelier masques et goûter
DESCRIPTION:Les ateliers lecture et création pour créer un masque pour le
  carnaval. Votre bibliothécaire anime un atelier manuel et une lecture !\
 n\nRamenez votre bonne humeur et repartez avec votre création.\n\nUn goû
 ter partagé sera proposé pour tout le monde à l'issue de l'atelier\n\nM
 édiathèque intercommunale de Montréal - vendredi 3 mars - 14h30-16h30\n
 \n&nbsp\;
LOCATION:Médiathèque Montréal\, 11 rue du Général Frère\, Montréal\,
  11290\, France
X-APPLE-STRUCTURED-LOCATION;VALUE=URI;X-ADDRESS=11 rue du Général Frère\
 , Montréal\, 11290\, France;X-APPLE-RADIUS=100;X-TITLE=Médiathèque Mont
 réal:geo:0,0
END:VEVENT
END:VCALENDAR