BEGIN:VCALENDAR
VERSION:2.0
PRODID:-//wp-events-plugin.com//7.2.3.1//EN
BEGIN:VEVENT
UID:266@lauragais-culture.fr
DTSTART:20220423T153000Z
DTEND:20220423T234500Z
DTSTAMP:20220309T093234Z
URL:https://lauragais-culture.fr/agenda/cirque-et-paillettes
SUMMARY:Cirque et Paillettes
DESCRIPTION:"Bivouac à Lanta" est une association née en 2019 d'une volon
 té des habitants du lieu dit En Jambo\, à Lanta\, renforcée d'une équi
 pe de bénévoles lantanais et motivés de proposer une sortie familiale p
 our que lantanais et personnes des environs puissent se rencontrer\, passe
 r un moment ensemble autour d'un repas\, d'un verre\, d'un spectacle.\n\nL
 e lieu se veut donc un cadre convivial et agréable. Aménagé pour l'occa
 sion\, il offre une programmation "tout public" mais aussi un espace enfan
 ts\, un espace bar\, des toilettes sèches\, un chapiteau et l'amphithéâ
 tre de verdure.\n\nIssus du milieu artistique via le cirque et la fabricat
 ion de décors de spectacle\, nous avons pensé et construit notre lieu d'
 habitation avec déjà ce projet en tête. D'où l'amphithéâtre de verdu
 re pouvant accueillir un public (environ 300 personnes).\n\nEn collaborati
 on avec un régisseur général\, une technicienne lumière\, un loueur de
  chapiteau\, notre objectif est de partager nos compétences liées au spe
 ctacle pour les mettre au service d'une programmation culturelle variée.\
 n\nLa 5ème édition de "Cirque et Paillettes" aura lieu le 23 avril 2022 
 et accueillera 2 spectacles tout public : "Comme la première fois" du col
 lectif Prêt à Porter et "Gros débit" de la compagnie Facile d'Excés. 
  S'en suit un repas -sur réservation- préparé par un vrai cuisinier et 
 la possibilité de prolonger la soirée en occupant le dance-floor !\n\n&n
 bsp\;
LOCATION:Bivouac à Lanta\, RTE DE PRESERVILLE \, LANTA\, 31570\, France
X-APPLE-STRUCTURED-LOCATION;VALUE=URI;X-ADDRESS=RTE DE PRESERVILLE \, LANTA
 \, 31570\, France;X-APPLE-RADIUS=100;X-TITLE=Bivouac à Lanta:geo:0,0
END:VEVENT
END:VCALENDAR