BEGIN:VCALENDAR
VERSION:2.0
PRODID:-//wp-events-plugin.com//7.2.3.1//EN
BEGIN:VEVENT
UID:418@lauragais-culture.fr
DTSTART:20220518T160000Z
DTEND:20220518T180000Z
DTSTAMP:20220512T065014Z
URL:https://lauragais-culture.fr/agenda/club-lecture-3
SUMMARY:Club lecture
DESCRIPTION:Venez assister au club lecture de Belpech ! Un rendez-vous pour
  tous les amoureux de la lecture.\nMédiathèque de Belpech\, mercredi 18 
 mai\, 16h
ATTACH;FMTTYPE=image/jpeg:https://lauragais-culture.fr/wp-content/uploads/
 2022/05/qrcode_medias11.over-blog.com_.png
LOCATION:Médiathèque de Belpech\, Rue du 8 Mai 1945\, Belpech\, 11420\, F
 rance
X-APPLE-STRUCTURED-LOCATION;VALUE=URI;X-ADDRESS=Rue du 8 Mai 1945\, Belpech
 \, 11420\, France;X-APPLE-RADIUS=100;X-TITLE=Médiathèque de Belpech:geo:
 0,0
END:VEVENT
END:VCALENDAR