BEGIN:VCALENDAR
VERSION:2.0
PRODID:-//wp-events-plugin.com//7.2.3.1//EN
BEGIN:VEVENT
UID:1527@lauragais-culture.fr
DTSTART:20260417T000000Z
DTEND:20260417T000000Z
DTSTAMP:20260416T084355Z
URL:https://lauragais-culture.fr/agenda/concert-poesie
SUMMARY:Concert poésie
DESCRIPTION:Concert poétique\nLassita en duo\nPar ici\, la guitare répond
  à la voix. Par là\, les mots de Julos Beaucarne\, Erri de Luca ou René
 e Vivien s’accordent en rythmes.\nVenez nous rejoindre pour une explorat
 ion subtile avec\, dans le désordre quelques ancêtres\, une berceuse\, d
 eux coqs\, une prière laïque\, des langues vivantes\, du folk\, du flame
 nco\, du blues… et beaucoup d’âme !\nCharles Cabon (guitare\, voix\,
  composition) et Solène Revol (voix\, texte\, improvisation).\nEntrée li
 bre.
ATTACH;FMTTYPE=image/jpeg:https://lauragais-culture.fr/wp-content/uploads/
 2026/04/castel-avril-lassita-scaled.png
LOCATION:Médiathèque Georges Canguilhem\, 8 rue commandant Raynal\, Caste
 lnaudary\, 11400\, France
X-APPLE-STRUCTURED-LOCATION;VALUE=URI;X-ADDRESS=8 rue commandant Raynal\, C
 astelnaudary\, 11400\, France;X-APPLE-RADIUS=100;X-TITLE=Médiathèque Geo
 rges Canguilhem:geo:0,0
END:VEVENT
END:VCALENDAR