BEGIN:VCALENDAR
VERSION:2.0
PRODID:-//wp-events-plugin.com//7.2.3.1//EN
BEGIN:VEVENT
UID:282@lauragais-culture.fr
DTSTART:20220425T100000Z
DTEND:20220425T120000Z
DTSTAMP:20220321T073644Z
URL:https://lauragais-culture.fr/agenda/de-petites-en-grandes-histoires-le
 s-emotions
SUMMARY:De Petites en Grandes Histoires - Les Emotions
DESCRIPTION:Venez écouter histoires\, comptines ... sur le thème des ém
 otions\, avec Béatrice et Sylvie\n\nLundi 21 février \n\nDeux séances 
 de lectures selon de l'âge des enfants\n- 10h : pour les tout-petits\n
 - 11h : dès 3 ans\n\n&nbsp\;\n\nMédiathèque Municipale\n2\, rue Erik
  Satie – ESCAL\n31560 NAILLOUX\n05.34.66.10.46\nmediatheque-nailloux@out
 look.fr\nhttps://mediatheque-nailloux.org\nApplication mobile"BibAndCo"\n\
 nMardi : 12h30 - 18h\nMercredi et Vendredi : 9h - 12h30 / 15h - 19h\nJeudi
  : 15h - 18h\nSamedi : 9h30 - 12h30 / 14h - 17h \nMédia'drive et boîte d
 e retours de documents à votre disposition
ATTACH;FMTTYPE=image/jpeg:https://lauragais-culture.fr/wp-content/uploads/
 2022/03/DePetitesenGrandesHistoires_LesEmotions_A4.jpg
LOCATION:Médiathèque de Nailloux\, 2 rue Erik Satie\, Nailloux\, France
X-APPLE-STRUCTURED-LOCATION;VALUE=URI;X-ADDRESS=2 rue Erik Satie\, Nailloux
 \, France;X-APPLE-RADIUS=100;X-TITLE=Médiathèque de Nailloux:geo:0,0
END:VEVENT
END:VCALENDAR