BEGIN:VCALENDAR
VERSION:2.0
PRODID:-//wp-events-plugin.com//7.2.3.1//EN
BEGIN:VEVENT
UID:27@lauragais-culture.fr
DTSTART;VALUE=DATE:20190223
DTEND;VALUE=DATE:20190623
DTSTAMP:20190404T074308Z
URL:https://lauragais-culture.fr/agenda/exposition-a-lorigine-de-la-musiqu
 e-instruments-du-monde
SUMMARY:Exposition  A l'origine de la Musique\, Instruments du monde
DESCRIPTION:Quatre ans après le succès de l’exposition « Bois de luthe
 rie »\, Didier LE GALL\, expert en instruments de musique nous convie à 
 découvrir une collection d’instruments de musique du monde.\n\nLe bois 
 est largement utilisé dans la fabrication des instruments. Coquillages\, 
 coques de fruits\, roseaux nous rappellent que les premiers musiciens puis
 aient dans leur environnement naturel pour fabriquer leurs instruments. La
  pratique musicale remonte à la nuit des temps.\n\nLes instruments de cet
 te exposition nous invitent au rêve et au voyage.\n\nAu premier regard\, 
 les instruments de musique présentés dans cette exposition nous surprenn
 ent par leur simplicité\, fabriqués le plus souvent avec des matériaux 
 choisis dans l’environnement naturel et ne nécessitant que peu de trans
 formation dans leur mise en forme\, réalisée avec un outillage rudimenta
 ire.\n\nUn rapport charnel se crée en les prenant en main et nous chercho
 ns intuitivement les gestes nécessaires à produire des sons. Nous puison
 s dans notre imaginaire pour entendre ou inventer la musique qu’ils prod
 uisent. Nous sommes en contact avec tous ces hommes qui les ont fabriqués
 \, ceux qui les ont joués\, que leur musique soit sacrée ou profane\, gu
 errière\, guérisseuse\, signal d’appel ou support pour danser\, chante
 r ou transmettre contes et récits initiatiques.\n\nLes pièces présenté
 es ont été collectés régionalement\, dans une démarche semblable à c
 elle du collectionneur de curiosités avec pour point commun de découvrir
  des instruments issus de cultures lointaines\, apportant avec eux histoir
 es et parfums d’exotisme. Elle a suscité l’émotion liée à la déco
 uverte de l’inconnu. Le changement de main a quelquefois été accompagn
 é du récit de celui qui l’a ramené d’un pays lointain\, ainsi que d
 e précisions d’origines géographiques et d’usage.\n\nLes instruments
  de cette collection sont présentés tels qu’ils ont été trouvés\, s
 ans restauration\, ce qui implique que la plupart ne sont plus en état de
  jeu. Les commissaires d’expositions n’ont pas souhaité compléter la
  collection pour établir une cohérence géographique ou représentative 
 de l’ensemble des familles d’instruments existants ni se mettre en qu
 ête d’instruments remarquables par leur rareté.\n\nCette exposition co
 ntribue à la découverte d’instruments de musique avec simplicité et o
 uverture d’esprit à d’autres cultures.\n\nElle invite également à u
 ne réflexion sur le rôle de la musique dans différentes régions du mon
 de.\n\nDidier LE GALL est musicien depuis son plus jeune âge. Il a fait d
 e cette passion son métier\, exerçant l’activité d’antiquaire spéc
 ialisé en instruments de musique anciens. Son expérience lui a valu d’
 être agréé comme expert en instrument de musique ancien par la CNES\, C
 hambre Nationale des Experts Spécialisés en Objets d’Art et de Collect
 ion\, et par la CEDEA\, Confédération Européenne des Experts d’Art. I
 l propose des expertises pour les musiciens\, collectionneurs\, amateurs\,
  assurances\, et intervient dans le cadre de successions. Expert en ventes
  publiques\, il assiste les commissaires-priseurs pour des ventes spécial
 isées. Il conseille pour la gestion de collections et a travaillé pour l
 e cinéma ou la télévision dans le cadre de reconstitutions historiques.
  Il partage sa passion en donnant des conférences et en contribuant à l
 ’organisation d’expositions temporaires et permanentes de musées. Pou
 r cette exposition il a fait appel quelques pièces d’une autre collecti
 on d’Occitanie\, celle de Madame Violette Beaujean.\n\nHoraires d'ouvert
 ure\n\nOuvert du mardi au samedi de 10h30 à 12h30 et de 14h à 18h\nOuver
 t dimanche 6 avril\, 5 mai et 2 juin\nOuvert mercredi 1er mai\,  mercredi
  8 mai et jeudi 30 mai\nFermé dimanche et lundi de Pâques et lundi de Pe
 ntecôte
ATTACH;FMTTYPE=image/jpeg:https://lauragais-culture.fr/wp-content/uploads/
 2019/04/Affiche-à-lorigine-de-la-musiqueOK-.jpg
LOCATION:Musée du Bois et de la Marqueterie\, centre d'art contemporain\, 
 13\, rue Jean Moulin\, REVEL\, 31250\, Occitanie\, France
X-APPLE-STRUCTURED-LOCATION;VALUE=URI;X-ADDRESS=13\, rue Jean Moulin\, REVE
 L\, 31250\, Occitanie\, France;X-APPLE-RADIUS=100;X-TITLE=Musée du Bois e
 t de la Marqueterie\, centre d'art contemporain:geo:0,0
END:VEVENT
END:VCALENDAR