BEGIN:VCALENDAR
VERSION:2.0
PRODID:-//wp-events-plugin.com//7.2.3.1//EN
BEGIN:VEVENT
UID:6@lauragais-culture.fr
DTSTART:20190408T080400Z
DTEND:20190621T183000Z
DTSTAMP:20190304T105345Z
URL:https://lauragais-culture.fr/agenda/exposition-de-lartiste-peintre-cle
 mentine-hallouin
SUMMARY:EXPOSITION DE L'ARTISTE PEINTRE CLÉMENTINE HALLOUIN
DESCRIPTION:La démarche artistique de Clémentine cherche à vibrer et res
 sentir la beauté de notre univers\, sur terre et…. plus loin. Comment
  s’imprégner de ce qui est et le transmettre en  lui apportant la coul
 eur qui lui est propre.\n\n" J’ai peint beaucoup de vagues à l’aquar
 elle qui sont représentatives de l’impermanence de la vie\, toujours en
  mouvement\, ainsi que de l’unicité\, toutes différentes. Elles nous d
 onnent également  la dimension de l’infini\, de l’éternel. J’aime
  aussi le paradoxe de la vague \; elle est faite de milliers de gouttes d
 ’eau\, l’eau étant par essence fluide et sans forme\, et en même tem
 ps elles sont extrêmement puissantes.\n\nEn découvrant l’huile  j’a
 i trouvé un autre sujet d’inspiration : les nébuleuses. Toujours le m
 ouvement\, bien que plus lent\, ainsi que le caractère unique continuent 
 de m’attirer. Et là encore l’infini\, l’éternel. De plus\, le choi
 x de ce sujet\, me permet de naviguer entre figuratif et non figuratif.\n\
 nIl me plait infiniment de contribuer à la beauté du monde en retransmet
 tant celle-ci à travers ma sensibilité et l’amour que je ressens lorsq
 ue je peins.\n\n J’ai choisis de ne pas donner de titre à mes peinture
 s afin que le spectateur ne soit pas influencé par un concept intellectue
 l et puisse recevoir\, ressentir et interpréter ce qu’il voit en toute 
 liberté."\n\nVernissage le lundi 8 avril à 18h30.
ATTACH;FMTTYPE=image/jpeg:https://lauragais-culture.fr/wp-content/uploads/
 2019/03/Orage.jpg
LOCATION:ÉNERGIES DE LA PIÈGE\, 9\, rue des Rosiers\, SALLES SUR L'HERS\,
  11410\, OCCITANIE\, France
X-APPLE-STRUCTURED-LOCATION;VALUE=URI;X-ADDRESS=9\, rue des Rosiers\, SALLE
 S SUR L'HERS\, 11410\, OCCITANIE\, France;X-APPLE-RADIUS=100;X-TITLE=ÉNER
 GIES DE LA PIÈGE:geo:0,0
END:VEVENT
END:VCALENDAR