BEGIN:VCALENDAR
VERSION:2.0
PRODID:-//wp-events-plugin.com//7.2.3.1//EN
BEGIN:VEVENT
UID:79@lauragais-culture.fr
DTSTART;VALUE=DATE:20190708
DTEND;VALUE=DATE:20190908
DTSTAMP:20190719T081446Z
URL:https://lauragais-culture.fr/agenda/exposition-de-photos-faune-et-flor
 e-du-lauragais
SUMMARY:EXPOSITION DE PHOTOS FAUNE ET FLORE DU LAURAGAIS
DESCRIPTION:\n 	Du 9 JUILLET au 7 SEPTEMBRE : EXPOSITION de photos faites p
 ar Louis Ferries-Castreras\, Fleurs et animaux du Lauragais.\n 	Photograph
 e amateur\, Naturaliste de terrain.\n 	\n 	Vernissage de l'exposition le S
 AMEDI 20 juillet à 11 H un apéritif sera offert\, venez nombreux.\n\n\n\
 n 	\n
LOCATION:BIBLIOTHEQUE VILLEFRANCHE DE LAURAGAIS\, SQUARE DE GAULLE\, VILLEF
 RANCHE DE LAURAGAIS\, 31290\, France
X-APPLE-STRUCTURED-LOCATION;VALUE=URI;X-ADDRESS=SQUARE DE GAULLE\, VILLEFRA
 NCHE DE LAURAGAIS\, 31290\, France;X-APPLE-RADIUS=100;X-TITLE=BIBLIOTHEQUE
  VILLEFRANCHE DE LAURAGAIS:geo:0,0
END:VEVENT
END:VCALENDAR