BEGIN:VCALENDAR
VERSION:2.0
PRODID:-//wp-events-plugin.com//7.2.3.1//EN
BEGIN:VEVENT
UID:408@lauragais-culture.fr
DTSTART:20220515T100000Z
DTEND:20220515T180000Z
DTSTAMP:20220425T074942Z
URL:https://lauragais-culture.fr/agenda/faites-du-printemps
SUMMARY:Faites du Printemps
DESCRIPTION:1ère édition de notre "Faites du Printemps" \n\nExpo / Vente
  d'Artistes et Créateurs du Lauragais\n\nPour le plaisir des yeux ou en p
 révision d'un achat\, en présence des artistes qui les ont créés\, de 
 nombreuses oeuvres et objets insolites seront à découvrir : Peintures\, 
 sculptures\, bijoux\, accessoires\, textiles\, sacs\, foulards\, cuir\, sa
 vons\, poteries\,  objets décoratifs et/ou utilitaires...\n\nEntrée Lib
 re - Buvette et petite restauration sur place en continu \n\nOrganisé pa
 r les Associations "La diligence créative" et "Labastide Loisirs" avec le
  soutien de la Municipalité de Labastide d'Anjou.\n\n&nbsp\;
ATTACH;FMTTYPE=image/jpeg:https://lauragais-culture.fr/wp-content/uploads/
 2022/04/Affiche-faites-du-printemps.jpg
LOCATION:Espace associatif et culturel\, Route de la Diligence\, Labastide 
 d'Anjou\, 11320\, France
X-APPLE-STRUCTURED-LOCATION;VALUE=URI;X-ADDRESS=Route de la Diligence\, Lab
 astide d'Anjou\, 11320\, France;X-APPLE-RADIUS=100;X-TITLE=Espace associat
 if et culturel:geo:0,0
END:VEVENT
END:VCALENDAR