BEGIN:VCALENDAR
VERSION:2.0
PRODID:-//wp-events-plugin.com//7.2.3.1//EN
BEGIN:VEVENT
UID:1532@lauragais-culture.fr
DTSTART:20260508T000000Z
DTEND:20260509T000000Z
DTSTAMP:20260416T084430Z
URL:https://lauragais-culture.fr/agenda/festival-des-ruelles-spectacles-et
 -arts-de-rue-2
SUMMARY:Festival des Ruelles • spectacles et arts de rue
DESCRIPTION:\nBim Bam Boom\n\n\n\nLe cétacé chouchou de la Vendinelle rem
 onte à la surface\, bien décidé à nous en mettre plein les mirettes.\n
 Ça va être énorme ! \n\n\n\nPour cette nouvelle édition\, la Baleine d
 es Ruelles prévoit deux jours d’escale ébouriffante. La belle débarqu
 e avec une valise aussi grosse qu’elle\, pleine de trésors abracadabran
 tesques.\n\n\n\nPour se mettre en jambe\, le vendredi\, quoi de mieux qu
 ’un show marionnettiste ou des jeux d’équilibristes accompagnés de n
 otes de piano ?\n\n\nLe rythme s’accélère et on enchaîne avec une tra
 nse euphorique et chaloupée sur un joyeux dancefloor.\n\n\nLe samedi\, ga
 re à vos zygomatiques : théâtre humoristique\, jongleries punks rock\, 
 cascades multi-vitaminées\, duos de cirque\, portés acrobatiques\, scèn
 es de ménage...\n\n\n\nL’appel au rire et à la joie partagée résonne
  si fort que les arbres se joignent à la fiesta pour des déambulations m
 usicales\, poétiques ou endiablées\, pour tous les goûts.\n\n\n\nBien s
 ûr\, la Baleine a tout prévu pour les pitchous : une boom ambiance fores
 tière et un manège techno 100 % recyclé.\n\n\nEt pour les infatigables\
 , les sportifs de haut niveau\, place à la natation synchronisée et à u
 ne free-party pré-colombienne.\n\n\n\nLaissez-vous porter par les flots e
 t en avant les paillettes ! \n\n\n\nParticipation nécessaire au chapeau.\
 nPrévoyez de préférence pièces et billets et votre gobelet !\n\nUn esp
 ace bivouac accueillera les plus fêtards pour deux nuits douces au vert\,
  dès le vendredi soir.\nPensez à covoiturer et à privilégier les trans
 ports en commun ou mobilités douces.\n
ATTACH;FMTTYPE=image/jpeg:https://lauragais-culture.fr/wp-content/uploads/
 2026/04/2026_MAI-scaled.jpg
LOCATION:Auriac-sur-Vendinelle\, Le Village\, Auriac-sur-Vendinelle\, 31460
 \, Haute-Garonne\, France
X-APPLE-STRUCTURED-LOCATION;VALUE=URI;X-ADDRESS=Le Village\, Auriac-sur-Ven
 dinelle\, 31460\, Haute-Garonne\, France;X-APPLE-RADIUS=100;X-TITLE=Auriac
 -sur-Vendinelle:geo:0,0
END:VEVENT
END:VCALENDAR