BEGIN:VCALENDAR
VERSION:2.0
PRODID:-//wp-events-plugin.com//7.2.3.1//EN
BEGIN:VEVENT
UID:1529@lauragais-culture.fr
DTSTART:20260509T000000Z
DTEND:20260509T000000Z
DTSTAMP:20260416T084447Z
URL:https://lauragais-culture.fr/agenda/festival-familial-total-festum-et-
 concert-de-claude-marti
SUMMARY:Festival familial Total Festum et concert de Claude Marti
DESCRIPTION:
ATTACH;FMTTYPE=image/jpeg:https://lauragais-culture.fr/wp-content/uploads/
 2026/04/Affiche.png
LOCATION:Jardin Public de Villefranche de Lauragais\, 2 rue de la Républiq
 ue\, Villefranche de Lauragais\, 31290\, France
X-APPLE-STRUCTURED-LOCATION;VALUE=URI;X-ADDRESS=2 rue de la République\, V
 illefranche de Lauragais\, 31290\, France;X-APPLE-RADIUS=100;X-TITLE=Jardi
 n Public de Villefranche de Lauragais:geo:0,0
END:VEVENT
END:VCALENDAR