BEGIN:VCALENDAR
VERSION:2.0
PRODID:-//wp-events-plugin.com//7.2.3.1//EN
BEGIN:VEVENT
UID:574@lauragais-culture.fr
DTSTART:20221119T153000Z
DTEND:20221119T180000Z
DTSTAMP:20221103T092032Z
URL:https://lauragais-culture.fr/agenda/inauguration-du-programme-eau-et-s
 olidarite
SUMMARY:Inauguration du programme eau et solidarité
DESCRIPTION:En novembre\, la CCPLM met "l'eau et la solidarité" à l'honne
 ur dans le cadre du programme de coopération internationale engagé avec 
 la commune de Foundiougne\, au Sénégal.\nInauguration du programme eau e
 t solidarité\nLe 19 novembre\, à la médiathèque intercommunale de Bram
 \n\n\n 	A  15h30 La grande bataille des toilettes dans le cadre du « Mo
 is du film documentaire »\n 	Suivi d'une présentation des actions de l'A
 CAD et de l'inauguration de l'exposition: Les toilettes\, une question de
  dignité\, à 17h00\n\n
LOCATION:Médiathèque Bram\, 1\, avenue Clémenceau - 11150 Bram\, BRAM\, 
 11150\, France
X-APPLE-STRUCTURED-LOCATION;VALUE=URI;X-ADDRESS=1\, avenue Clémenceau - 11
 150 Bram\, BRAM\, 11150\, France;X-APPLE-RADIUS=100;X-TITLE=Médiathèque 
 Bram:geo:0,0
END:VEVENT
END:VCALENDAR