BEGIN:VCALENDAR
VERSION:2.0
PRODID:-//wp-events-plugin.com//7.2.3.1//EN
BEGIN:VEVENT
UID:211@lauragais-culture.fr
DTSTART:20210615T000000Z
DTEND:20210719T000000Z
DTSTAMP:20210621T064251Z
URL:https://lauragais-culture.fr/agenda/le-bonheur-dans-la-silhouette-par-
 les-grandes-sections-de-lecole-maternelle-de-nailloux
SUMMARY:Le bonheur dans la silhouette par les Grandes Sections de l'école 
 maternelle de Nailloux
DESCRIPTION:Retrouvez le rendu des élèves de Grande Section des maternell
 es de Nailloux\, classe de Laëtitia Theillac sur le surréalisme et leur 
 travaux sur l’œuvre L'heureux donateur de René Magritte\n\nDu mardi 15
  juin au lundi 19 juillet en salle de réunion à l'ESCAL\n\nSur les horai
 res d'ouvertures de la médiathèque\n\nCes informations sont susceptibles
  d’évoluer : merci de votre patience et de votre compréhension !\n\n&n
 bsp\;\n\nESCAL- 2\, rue Erik Satie\n31560 NAILLOUX\n05.34.66.10.46\nmediat
 heque-nailloux@outlook.fr\nhttps://mediatheque-nailloux.org/\n\nMardi : 12
 h30 - 18h\nMercredi et Vendredi : 9h - 12h30 / 15h - 19h\nJeudi : 15h - 18
 h\nSamedi : 9h30 - 12h30 / 14h - 17h\n\n&nbsp\;
ATTACH;FMTTYPE=image/jpeg:https://lauragais-culture.fr/wp-content/uploads/
 2021/06/EcoleMaternelleLaetitiaTheillac_Lebonheurdanslasilhouette_01.jpg
LOCATION:ESCAL - Salle de réunion\, 2 rue Erik Satie\, Nailloux\, France
X-APPLE-STRUCTURED-LOCATION;VALUE=URI;X-ADDRESS=2 rue Erik Satie\, Nailloux
 \, France;X-APPLE-RADIUS=100;X-TITLE=ESCAL - Salle de réunion:geo:0,0
END:VEVENT
END:VCALENDAR