BEGIN:VCALENDAR
VERSION:2.0
PRODID:-//wp-events-plugin.com//7.2.3.1//EN
BEGIN:VEVENT
UID:112@lauragais-culture.fr
DTSTART:20200703T000000Z
DTEND:20200705T190000Z
DTSTAMP:20200602T144056Z
URL:https://lauragais-culture.fr/agenda/les-papierades
SUMMARY:Les Papiérades
DESCRIPTION:\n\n\n\n\n\n\n\n\n\n\n\n\n\n\n\n\n\n\n\n\n\nEn 2020\, nous lan
 çons une nouvelle manifestation qui accueillera des artistes plasticien.n
 e.s qui déclinent le papier dans leur travail et dont les œuvres seront 
 exposées dans des lieux représentatifs du patrimoine local (Le Lauragais
 ) avec des balades animés d’un lieu à l’autre.\nTout au long du week
 end\, un programme varié proposera du spectacle vivant (théâtre de papi
 er\, théâtre historique)\, de la musique (concerts\, bal traditionnel)\,
  des animations (origami\, pop-up\, meuble en papier\, papier mâché\, re
 liure\, four en papier…) et des plaisir gustatifs (marché de producteur
 s). En raison du COVID-19 cet événement a été annulé. Reporté à une
  date ultérieure.\n\n\n\n\n\n\n\n\n\n\n\n\n\n\n\n\n\n\n\n
LOCATION:Espace en Gauzy\, Route de Toulouse \, Salles-sur-l'Hers \, Laurag
 ais \, 11410\, Occitanie \, France
X-APPLE-STRUCTURED-LOCATION;VALUE=URI;X-ADDRESS=Route de Toulouse \, Salles
 -sur-l'Hers \, Lauragais \, 11410\, Occitanie \, France;X-APPLE-RADIUS=100
 ;X-TITLE=Espace en Gauzy:geo:0,0
END:VEVENT
END:VCALENDAR