BEGIN:VCALENDAR
VERSION:2.0
PRODID:-//wp-events-plugin.com//7.2.3.1//EN
BEGIN:VEVENT
UID:624@lauragais-culture.fr
DTSTART:20230118T000000Z
DTEND:20230121T000000Z
DTSTAMP:20221219T074337Z
URL:https://lauragais-culture.fr/agenda/nuits-de-la-lecture-2023
SUMMARY:Nuits de la lecture 2023
DESCRIPTION:Dans le cadre de l'évènement national Les nuits de la lecture
  sur le thème de la peur\, la médiathèque vous propose :\n\nMercredi 18
  janvier - Petites Histoires à faire Peur\n\n 	15h pour les froussards d
 ès 5 ans\n 	16h pour les petits peureux de 3 ans\n\nSamedi 21 janvier - T
 rois temps forts\n\n 	15h - Jeux de mystère et de peur avec Les Jeux du C
 hananas\, dès 12 ans\, à l'ESCAL\n 	18h - Spectacle déambulatoire Enqu
 ête en Médiathèque avec Bleu Pétrole\, public familial dès 6 ans\, su
 r inscription. Devenez enquêteur cette nuit-là\, lampes torches en poche
 \, à la médiathèque.\n 	19h30 - Trouille et frontales\, vin chaud pour 
 sueurs froides ! Petite marche jusqu'à la librairie Détours\, et plongé
 e dans le noir pour lecture de textes frissonnants.\nPour se remettre de t
 outes ces émotions\, vin chaud et apéritif partagé.\n\n&nbsp\;\n\nMédi
 athèque Municipale\n2\, rue Erik Satie – ESCAL\n31560 NAILLOUX\n05.34.6
 6.10.46\nmediatheque-nailloux@outlook.fr\nhttps://mediatheque-nailloux.org
 \nApplication mobile"BibAndCo"\n\nMardi : 12h30 - 18h\nMercredi : 9h - 12h
 30 / 15h - 19h\nJeudi : 15h - 18h\nVendredi : 15h - 19h\nSamedi : 9h - 12h
 30 / 14h - 17h\n\n&nbsp\;\n\n&nbsp\;
ATTACH;FMTTYPE=image/jpeg:https://lauragais-culture.fr/wp-content/uploads/
 2022/12/NuitsDeLaLecture_2023.png
LOCATION:Médiathèque de Nailloux\, 2 rue Erik Satie\, Nailloux\, France
X-APPLE-STRUCTURED-LOCATION;VALUE=URI;X-ADDRESS=2 rue Erik Satie\, Nailloux
 \, France;X-APPLE-RADIUS=100;X-TITLE=Médiathèque de Nailloux:geo:0,0
END:VEVENT
END:VCALENDAR