BEGIN:VCALENDAR
VERSION:2.0
PRODID:-//wp-events-plugin.com//7.2.3.1//EN
BEGIN:VEVENT
UID:573@lauragais-culture.fr
DTSTART:20221118T103000Z
DTEND:20221118T120000Z
DTSTAMP:20221103T092031Z
URL:https://lauragais-culture.fr/agenda/pause-detente-3
SUMMARY:Pause détente
DESCRIPTION:Un rendez-vous lecture zen pour se détendre\, se connaître\, 
 connaître et échanger en toute sérénité.\n\nCharlotte Gubitta vous re
 trouve vendredi 18 novembre\, de 10h30 à 12h autour du thème de la marc
 he.
LOCATION:Médiathèque Bram\, 1\, avenue Clémenceau - 11150 Bram\, BRAM\, 
 11150\, France
X-APPLE-STRUCTURED-LOCATION;VALUE=URI;X-ADDRESS=1\, avenue Clémenceau - 11
 150 Bram\, BRAM\, 11150\, France;X-APPLE-RADIUS=100;X-TITLE=Médiathèque 
 Bram:geo:0,0
END:VEVENT
END:VCALENDAR