BEGIN:VCALENDAR
VERSION:2.0
PRODID:-//wp-events-plugin.com//7.2.3.1//EN
BEGIN:VEVENT
UID:555@lauragais-culture.fr
DTSTART:20221207T150000Z
DTEND:20221207T160000Z
DTSTAMP:20221102T110829Z
URL:https://lauragais-culture.fr/agenda/petites-histoires-de-noel
SUMMARY:Petites Histoires de Noël
DESCRIPTION:Venez écouter des histoires de Noël à la médiathèque avec 
 Aurélie et Béatrice\n\nMercredi 7 décembre\n\n 	15h pour les lutins dè
 s 5 ans\n 	16h pour les petits lutins de 3 ans\n\n&nbsp\;\n\nMédiathèqu
 e Municipale\n2\, rue Erik Satie – ESCAL\n31560 NAILLOUX\n05.34.66.10.46
 \nmediatheque-nailloux@outlook.fr\nhttps://mediatheque-nailloux.org\nAppli
 cation mobile"BibAndCo"\n\nMardi : 12h30 - 18h\nMercredi : 9h - 12h30 / 15
 h - 19h\nJeudi : 15h - 18h\nVendredi : 15h - 19h\nSamedi : 9h - 12h30 / 14
 h - 17h
ATTACH;FMTTYPE=image/jpeg:https://lauragais-culture.fr/wp-content/uploads/
 2022/11/PetitesHistoiresenESCAL_Noel_A4.png
LOCATION:Médiathèque de Nailloux\, 2 rue Erik Satie\, Nailloux\, France
X-APPLE-STRUCTURED-LOCATION;VALUE=URI;X-ADDRESS=2 rue Erik Satie\, Nailloux
 \, France;X-APPLE-RADIUS=100;X-TITLE=Médiathèque de Nailloux:geo:0,0
END:VEVENT
END:VCALENDAR