BEGIN:VCALENDAR
VERSION:2.0
PRODID:-//wp-events-plugin.com//7.2.3.1//EN
BEGIN:VEVENT
UID:129@lauragais-culture.fr
DTSTART:20191218T000000Z
DTEND:20191218T000000Z
DTSTAMP:20191113T105458Z
URL:https://lauragais-culture.fr/agenda/petites-histoires-en-escal-2
SUMMARY:Petites histoires en ESCAL
DESCRIPTION:Venez à la médiathèque écouter des histoires de Noël en pl
 usieurs langues avec Montse\, Chantal\, Anne et Sylvie\n\nMercredi 18 déc
 embre\n\nPublic enfant\, à partir de 5 ans - Dès 15h
ATTACH;FMTTYPE=image/jpeg:https://lauragais-culture.fr/wp-content/uploads/
 2019/11/Noël_2019_01-1.jpg
LOCATION:Médiathèque de Nailloux\, 2 rue Erik Satie\, Nailloux\, France
X-APPLE-STRUCTURED-LOCATION;VALUE=URI;X-ADDRESS=2 rue Erik Satie\, Nailloux
 \, France;X-APPLE-RADIUS=100;X-TITLE=Médiathèque de Nailloux:geo:0,0
END:VEVENT
END:VCALENDAR