BEGIN:VCALENDAR
VERSION:2.0
PRODID:-//wp-events-plugin.com//7.2.3.1//EN
BEGIN:VEVENT
UID:1241@lauragais-culture.fr
DTSTART:20241113T150000Z
DTEND:20241113T170000Z
DTSTAMP:20241028T091059Z
URL:https://lauragais-culture.fr/agenda/petites-histoires-en-escal-loup
SUMMARY:Petites Histoires en ESCAl - Loup
DESCRIPTION:Venez à la médiathèque écouter des histoires de loup avec A
 urélie et Béatrice ! Que ce soit des gentils ou des méchants\, il y en 
 aura pour tous les goûts !\n\nMercredi 13 novembre \n\n 	15h pour les lo
 ups de 5 ans\n 	16h pour les louveteaux dès 3 ans\n\nPublic enfants\n\n&n
 bsp\;\n\nMédiathèque Municipale\n2 rue Erik Satie - ESCAL 31560 NAILLOUX
 \n05 34 66 10 46\nhttps://mediatheque-nailloux.org\nApplication mobile "Bi
 bAndCo"\n\nMardi : 12h30 - 18h\nMercredi : 9h - 12h30 / 15h - 19h\nJeudi :
  15h - 18h\nVendredi : 15h - 19h\nSamedi : 9h - 12h30 / 14h-17h\nEn dehors
  des horaires d'ouverture\, le personnel accueille les groupes et effectue
  ses tâches internes.
ATTACH;FMTTYPE=image/jpeg:https://lauragais-culture.fr/wp-content/uploads/
 2024/10/PetitesHistoiresEnESCAL_Loup_A4.png
LOCATION:Médiathèque de Nailloux\, 2 rue Erik Satie\, Nailloux\, France
X-APPLE-STRUCTURED-LOCATION;VALUE=URI;X-ADDRESS=2 rue Erik Satie\, Nailloux
 \, France;X-APPLE-RADIUS=100;X-TITLE=Médiathèque de Nailloux:geo:0,0
END:VEVENT
END:VCALENDAR