BEGIN:VCALENDAR
VERSION:2.0
PRODID:-//wp-events-plugin.com//7.2.3.1//EN
BEGIN:VEVENT
UID:650@lauragais-culture.fr
DTSTART:20230121T160000Z
DTEND:20230122T170000Z
DTSTAMP:20230103T075057Z
URL:https://lauragais-culture.fr/agenda/scrabble-endiable-2-2023-01-21
SUMMARY:Scrabble endiablé
DESCRIPTION:Retrouvez-vous à la médiathèque pour partager une partie de 
 Scrabble conviviale !\n\nLe matériel est fourni.\n\nInformations et rése
 rvation au 04.68.76.50.07 ou sur lecture@ccplm.fr\n\nMédiathèque interco
 mmunale de Bram\, samedi après-midi\, de 16h à 17h
ATTACH;FMTTYPE=image/jpeg:https://lauragais-culture.fr/wp-content/uploads/
 2022/12/scrabble.jpg
LOCATION:Médiathèque Bram\, 1\, avenue Clémenceau - 11150 Bram\, BRAM\, 
 11150\, France
X-APPLE-STRUCTURED-LOCATION;VALUE=URI;X-ADDRESS=1\, avenue Clémenceau - 11
 150 Bram\, BRAM\, 11150\, France;X-APPLE-RADIUS=100;X-TITLE=Médiathèque 
 Bram:geo:0,0
END:VEVENT
END:VCALENDAR