BEGIN:VCALENDAR
VERSION:2.0
PRODID:-//wp-events-plugin.com//7.2.3.1//EN
BEGIN:VEVENT
UID:1484@lauragais-culture.fr
DTSTART:20251122T000000Z
DTEND:20251122T000000Z
DTSTAMP:20251028T134318Z
URL:https://lauragais-culture.fr/agenda/spectacle-eau-la-la-cie-amapola
SUMMARY:Spectacle Eau là là ! - Cie Amapola
DESCRIPTION:Venez découvrir le spectacle Eau là là ! par la Cie Amapola 
 : exploration sensorielle et rythmique des Éléments.\n\nNous suivons l
 ’aventure d’une petite goutte de rosée pleine de fantaisie qui souhai
 te rejoindre l’océan\, il va ainsi découvrir par des tableaux poétiqu
 es\, le parcours du cycle de l’eau.\n\nLes bruitages\, rythmes\, lumièr
 es nous immergent totalement dans chaque tableau et permettent au public d
 e se fondre et de se transformer à l’image de la goutte.\n\nSpectacle o
 ffert par la mairie de Nailloux dans le cadre d'un Enfant\, un livre.\n\nS
 amedi 22 novembre - 10h30\n\nPublic bébé\n\n&nbsp\;\n\nMédiathèque Mun
 icipale\nESCAL - 2 rue Erik Satie\n31560 Nailloux\nmediatheque@mairienaill
 oux31.com\nApplication Bib &amp\; Co\n\nHoraires hors vacances scolaires \
 nMardi : 15h - 18h\nMercredi : 9h - 12h30 / 15h - 19h\nJeudi : 15h - 18h\n
 Vendredi : 15h - 19h\nSamedi : 9h - 12h30 / 14h - 17h\n\nHoraires Vacances
  scolaires \nMardi\, Mercredi\, Jeudi et Samedi : 9h - 12h30 / 14h - 17h\n
 Fermée durant les jours fériés.
ATTACH;FMTTYPE=image/jpeg:https://lauragais-culture.fr/wp-content/uploads/
 2025/10/Eaulala_CieAmapola_A4.png
LOCATION:Médiathèque de Nailloux\, 2 rue Erik Satie\, Nailloux\, France
X-APPLE-STRUCTURED-LOCATION;VALUE=URI;X-ADDRESS=2 rue Erik Satie\, Nailloux
 \, France;X-APPLE-RADIUS=100;X-TITLE=Médiathèque de Nailloux:geo:0,0
END:VEVENT
END:VCALENDAR