BEGIN:VCALENDAR
VERSION:2.0
PRODID:-//wp-events-plugin.com//7.2.3.1//EN
BEGIN:VEVENT
UID:1528@lauragais-culture.fr
DTSTART:20260507T000000Z
DTEND:20260507T000000Z
DTSTAMP:20260416T084423Z
URL:https://lauragais-culture.fr/agenda/spectacle-nani-et-puis-un-jour-tu-
 vis
SUMMARY:Spectacle "Na'Ni et puis un jour tu vis"
DESCRIPTION:Na’Ni et puis un jour tu vis – Compagnie Grasparossa\nUne f
 emme seule sur scène et une galerie de personnages qu'elle convoque pour 
 livrer son histoire.\nAvec beaucoup d'humour et d'autodérision\, Na'Ni no
 us invite dans un voyage initiatique de la survie à la vie.\nC'est un dé
 sir de liberté\, d'épanouissement et d'élégance sauvage.\nElle chante 
 ses racines\, sa danse est un éclat féminin et puissant\, ses paroles no
 us transportent avec enthousiasme vers l'envie d'être soi.\nDe et avec Si
 mona Boni\nTout public à partir de 8 ans – Sur réservation : 04 68 94 
 58 49 ou mediatheques@cccla.fr ou https://www.mediatheques-cccla.fr/node/c
 ontent/nid/519191\n
ATTACH;FMTTYPE=image/jpeg:https://lauragais-culture.fr/wp-content/uploads/
 2026/04/Castel-Mai-na-ni-et-puis-un-jour.png
LOCATION:Médiathèque Georges Canguilhem\, 8 rue commandant Raynal\, Caste
 lnaudary\, 11400\, France
X-APPLE-STRUCTURED-LOCATION;VALUE=URI;X-ADDRESS=8 rue commandant Raynal\, C
 astelnaudary\, 11400\, France;X-APPLE-RADIUS=100;X-TITLE=Médiathèque Geo
 rges Canguilhem:geo:0,0
END:VEVENT
END:VCALENDAR