BEGIN:VCALENDAR
VERSION:2.0
PRODID:-//wp-events-plugin.com//7.2.3.1//EN
BEGIN:VEVENT
UID:1531@lauragais-culture.fr
DTSTART:20260426T000000Z
DTEND:20260426T000000Z
DTSTAMP:20260416T084408Z
URL:https://lauragais-culture.fr/agenda/stage-petites-danses-a-garder-en-m
 emoire
SUMMARY:Stage Petites danses à garder en mémoire
DESCRIPTION: Stage Petites danses à garder en mémoire\n\nAu programme : i
 oscà\, lavaire\, moskova\, pic pè\, saut de l'agassa\, cordon blu\, mont
 agnarde\, mazurka provençale\, autrichienne\, congo du Passage d'Agen...
ATTACH;FMTTYPE=image/jpeg:https://lauragais-culture.fr/wp-content/uploads/
 2026/04/Affiche-26-Avril-2026-Stage-de-danse-a-Caraman.jpg
LOCATION:Maison des Associations de Caraman\, 4 rue du Temple \, CARAMAN\, 
 31\, 31460\, France
X-APPLE-STRUCTURED-LOCATION;VALUE=URI;X-ADDRESS=4 rue du Temple \, CARAMAN\
 , 31\, 31460\, France;X-APPLE-RADIUS=100;X-TITLE=Maison des Associations d
 e Caraman:geo:0,0
END:VEVENT
END:VCALENDAR