BEGIN:VCALENDAR
VERSION:2.0
PRODID:-//wp-events-plugin.com//7.2.3.1//EN
BEGIN:VEVENT
UID:1@lauragais-culture.fr
DTSTART:20190227T160000Z
DTEND:20190227T170000Z
DTSTAMP:20190227T145606Z
URL:https://lauragais-culture.fr/agenda/test-du-27-02-19
SUMMARY:Test du 27/02/19
DESCRIPTION:Test du nouveau calendrier
LOCATION:Moulin de Nailloux\, Chemin du Gril\, Nailloux\, 31560\, France
X-APPLE-STRUCTURED-LOCATION;VALUE=URI;X-ADDRESS=Chemin du Gril\, Nailloux\,
  31560\, France;X-APPLE-RADIUS=100;X-TITLE=Moulin de Nailloux:geo:0,0
END:VEVENT
END:VCALENDAR