BEGIN:VCALENDAR
VERSION:2.0
PRODID:-//wp-events-plugin.com//7.2.3.1//EN
BEGIN:VEVENT
UID:1525@lauragais-culture.fr
DTSTART:20260411T000000Z
DTEND:20260412T000000Z
DTSTAMP:20260401T101718Z
URL:https://lauragais-culture.fr/agenda/week-end-culturel-aux-halles-de-mo
 ntreal
SUMMARY:Week-end culturel aux Halles de Montréal
DESCRIPTION:"Nous vous embarquons pour 2 voyages musicaux et théâtraux ha
 uts en couleurs.\n\nLe samedi 11 avril à 20h45\n\nLe Trio Zafrani propose
  des compositions originales inspirées de Bach à travers des interpréta
 tions tantôt Jazz\, tantôt baroques\, tantôt orientales\, parfois élec
 tro.\nL'immense maitrise de ces artistes de formation classique rend toute
 s les fantaisies possibles tant par la grâce de leurs instruments que par
  la magie de la voix.\n\nCaroline Champy-Tursun : Chant / Clavier / Looper
 \nIsabelle Cirla : Clarinette basse\nAuguste Harlé : Violoncelle.\n\nLe d
 imanche 12 avril à 17h\n\nC'est Simona Boni\, comédienne\, danseuse et c
 hanteuse qui\, dans Na'Ni et puis un jour tu vis\, convoque l'italie de so
 n enfance à travers une galerie de personnages drôles et attachants. Ell
 e célèbre le désir de liberté\, d'émancipation\, l'envie d'être soi 
 dans un réjouissant voyage initiatique.\n\nCes deux spectacles auront lie
 u aux Halles\, rue de la mairie\, avec possibilité de petite restauration
  avant spectacle le samedi\, à partir de 19h45\n\nLe samedi 11 à 18 h s
 alle Mazières\n\nEt pour ouvrir le bal de ces festivités\, le Cercle Cul
 turel vous invite au vernissage de l'exposition Textiles et toiles  où A
 ndrée Hudelle Prehu artiste voyageuse et tisseuse de génie désormais in
 stallée dans le minervois\, présentera ses splendides créations à la c
 roisée de l'art et de l'artisanat.
ATTACH;FMTTYPE=image/jpeg:https://lauragais-culture.fr/wp-content/uploads/
 2026/03/Sans-titre.png
LOCATION:Salle des fêtes « Les Halles » Rue de la Mairie 11290 Montré
 al\, Rue de la Mairie\, Montréal\, 11290\, France
X-APPLE-STRUCTURED-LOCATION;VALUE=URI;X-ADDRESS=Rue de la Mairie\, Montréa
 l\, 11290\, France;X-APPLE-RADIUS=100;X-TITLE=Salle des fêtes « Les Hal
 les » Rue de la Mairie 11290 Montréal:geo:0,0
END:VEVENT
END:VCALENDAR